BEGIN:VCALENDAR
VERSION:2.0
PRODID:-//www.graceevanston.org//NONSGML kigkonsult.se iCalcreator 2.39.1//
CALSCALE:GREGORIAN
METHOD:PUBLISH
UID:152fcdd0-2de4-4642-b5d5-3bf7f294e815
X-WR-CALNAME:www.graceevanston.org
X-WR-CALDESC:www.graceevanston.org
X-WR-TIMEZONE:America/Los_Angeles
X-LIC-LOCATION:America/Los_Angeles
BEGIN:VEVENT
UID:aeba56f5-5d75-4c10-bbda-fc829507cab9
DTSTAMP:20260423T013856Z
CLASS:PUBLIC
DTSTART;TZID=America/Los_Angeles:20240103T180000
DTEND;TZID=America/Los_Angeles:20240103T190000
SUMMARY:Wonderful Wednesday
TRANSP:OPAQUE
BEGIN:VALARM
ACTION:DISPLAY
DESCRIPTION:Wonderful Wednesday
TRIGGER:-PT15M
END:VALARM
END:VEVENT
END:VCALENDAR
